BEGIN:VCALENDAR
VERSION:2.0
PRODID:-//Zauberwortreich - ECPv6.15.20//NONSGML v1.0//EN
CALSCALE:GREGORIAN
METHOD:PUBLISH
X-WR-CALNAME:Zauberwortreich
X-ORIGINAL-URL:https://zauberwortreich.com
X-WR-CALDESC:Veranstaltungen im Zauberwortreich
REFRESH-INTERVAL;VALUE=DURATION:PT1H
X-Robots-Tag:noindex
X-PUBLISHED-TTL:PT1H
BEGIN:VTIMEZONE
TZID:Europe/Zurich
BEGIN:DAYLIGHT
TZOFFSETFROM:+0100
TZOFFSETTO:+0200
TZNAME:CEST
DTSTART:20210328T010000
END:DAYLIGHT
BEGIN:STANDARD
TZOFFSETFROM:+0200
TZOFFSETTO:+0100
TZNAME:CET
DTSTART:20211031T010000
END:STANDARD
BEGIN:DAYLIGHT
TZOFFSETFROM:+0100
TZOFFSETTO:+0200
TZNAME:CEST
DTSTART:20220327T010000
END:DAYLIGHT
BEGIN:STANDARD
TZOFFSETFROM:+0200
TZOFFSETTO:+0100
TZNAME:CET
DTSTART:20221030T010000
END:STANDARD
BEGIN:DAYLIGHT
TZOFFSETFROM:+0100
TZOFFSETTO:+0200
TZNAME:CEST
DTSTART:20230326T010000
END:DAYLIGHT
BEGIN:STANDARD
TZOFFSETFROM:+0200
TZOFFSETTO:+0100
TZNAME:CET
DTSTART:20231029T010000
END:STANDARD
BEGIN:DAYLIGHT
TZOFFSETFROM:+0100
TZOFFSETTO:+0200
TZNAME:CEST
DTSTART:20240331T010000
END:DAYLIGHT
BEGIN:STANDARD
TZOFFSETFROM:+0200
TZOFFSETTO:+0100
TZNAME:CET
DTSTART:20241027T010000
END:STANDARD
BEGIN:DAYLIGHT
TZOFFSETFROM:+0100
TZOFFSETTO:+0200
TZNAME:CEST
DTSTART:20250330T010000
END:DAYLIGHT
BEGIN:STANDARD
TZOFFSETFROM:+0200
TZOFFSETTO:+0100
TZNAME:CET
DTSTART:20251026T010000
END:STANDARD
BEGIN:DAYLIGHT
TZOFFSETFROM:+0100
TZOFFSETTO:+0200
TZNAME:CEST
DTSTART:20260329T010000
END:DAYLIGHT
BEGIN:STANDARD
TZOFFSETFROM:+0200
TZOFFSETTO:+0100
TZNAME:CET
DTSTART:20261025T010000
END:STANDARD
END:VTIMEZONE
BEGIN:VEVENT
DTSTART;TZID=Europe/Zurich:20250917T150000
DTEND;TZID=Europe/Zurich:20250927T170000
DTSTAMP:20260424T143118
CREATED:20250713T143248Z
LAST-MODIFIED:20250713T155252Z
UID:4124-1758121200-1758992400@zauberwortreich.com
SUMMARY:AUSSTELLUNG «ja»
DESCRIPTION:«ja» als ein existenzieller Schwellenbegriff zwischen Bindung und Selbstermächtigung. \n\n\n\nKornelia Reicharts «Zauberwortbilder» – farbenfrohe Acrylarbeiten auf Leinwand – verknüpfen Sprache\, Körper und Symbol. Braut\, Bär\, Schleier und Regenbogenball erschienen als Chiffren biografischer Übergänge zwischen Verletzlichkeit und Kraft. Zartheit und Kindlichkeit treten dabei bewusst und authentisch in Erscheinung\, sowohl im Frauenfussball als auch in Mutter-Kind-Themen\, die sich in Fürsorge\, Verlust\, Regression und Neuschöpfung zeigen. Das weibliche «ja» begreift Kornelia Reichart nicht als Zustimmung sondern als Selbstermächtigung.  \n\n\n\nEin Höhepunkt der Ausstellung bildet die Braut-Performance\, während der Spalennacht am 18. September um 18 Uhr. \n\n\n\nÖffnungszeiten:Mittwoch – Freitag | 15 – 18.30 UhrSamstag | 11 – 17 Uhr \n\n\n\n\n\n\n\n\n\n\n\nDownload Flyer als PDF | Ausstellung «ja» \n\n\n\nIn Zusammenarbeit mit Schweizerische Gesellschaft Bildender Künstlerinnen SGBK | www.sgbk.ch
URL:https://zauberwortreich.com/event/ausstellung-ja/
LOCATION:SGBK KUNST RAUM Basel\, Spalenvorstadt 18\, Basel\, 4051\, Switzerland
ATTACH;FMTTYPE=image/png:https://zauberwortreich.com/wp-content/uploads/2025/06/header-dopamine.png
ORGANIZER;CN="Kornelia Reichart":MAILTO:info@zauberwortreich.com
END:VEVENT
BEGIN:VEVENT
DTSTART;TZID=Europe/Zurich:20250702T000000
DTEND;TZID=Europe/Zurich:20250727T235959
DTSTAMP:20260424T143118
CREATED:20250601T112627Z
LAST-MODIFIED:20250713T144322Z
UID:4099-1751414400-1753660799@zauberwortreich.com
SUMMARY:EXPOSITION EURO 2025 | Sion
DESCRIPTION:Kunst in Bewegung. Zwischen Stadion und Stadt. Zwischen Kraft und Gefühl. Anlässlich der Frauenfussball-EM 2025 wird Sion zum Schauplatz einer besonderen Begegnung zwischen weiblicher Kunst und Fussball. In einer von Agnes Guhl kuratierten Gruppenausstellung zeigen 14 etablierte Künstlerinnen ihre Werke. Die Arbeiten reichen von Malerei über Skulptur bis zu einer Präsentation im öffentlichen Raum. 14 Werke werden zusätzlich zur Ausstellung auf grossflächigen Planen auf dem Fan Walk zum Stadion gezeigt. Dort ist auch Kornelia Reicharts «Dopamine» zu sehen. Das Bild thematisiert Erschöpfung\, Schmerz und Rausch als Teil weiblicher Selbstbehauptung und Kontrapunkt zur meist männlich codierten Sportästhetik. Sie ist der Schlussakkord des Triptychon «Endorphine-Adrenaline-Dopamine». Der gesamte Triptychon mit den Originalwerken ist in der Ausstellung vom 2. bis 27. Juli 2025 in der Altstadt von Sion zu sehen. \n\n\n\nVernissageMittwoch\, 2. Juli 202517 Uhr | Passerelle de Vissigen18 Uhr | Maison Platea \n\n\n\nAusstellung2. bis 27. Juli 2025 | Mi. – So. 14 – 19 Uhr \n\n\n\nRue du Vieux Collège 141950 Sion Suisse+41 (0)27 322 32 50 | +41 (0)77 440 72 10 \n\n\n\n\n\n\n\nFlyer \n\n\n\nFlyer 1 + Flyer 2
URL:https://zauberwortreich.com/event/exposition-euro-2025-sion/
LOCATION:Agnes Guhl\, Rue du Vieux Collège 14\, Sion\, 1950\, Switzerland
ATTACH;FMTTYPE=image/heic:https://zauberwortreich.com/wp-content/uploads/2025/07/IMG_2980.heic
ORGANIZER;CN="Agnes Guhl":MAILTO:agnesguhlag4film@netplus.ch
END:VEVENT
BEGIN:VEVENT
DTSTART;TZID=Europe/Zurich:20250205T000000
DTEND;TZID=Europe/Zurich:20250222T235959
DTSTAMP:20260424T143118
CREATED:20250110T200028Z
LAST-MODIFIED:20250110T200031Z
UID:4083-1738713600-1740268799@zauberwortreich.com
SUMMARY:zeichnungen
DESCRIPTION:GRUPPENAUSSTELLUNG\n\n\n\nMittwoch\, 5. Februar bis Samstag\, 22. Februar 2025SGBK KUNST RAUM | Spalenvorstadt 18 | 4051 Basel \n\n\n\nÖFFNUNGSZEITEN\n\n\n\nMittwoch bis Freitag von 15 bis 18.30 UhrSamstag von 11 bis 17.00 Uhr \n\n\n\nFlyer Zeichnungen 2025Herunterladen\n\n\n\nAPÉRO\n\n\n\nSamstag\, 8. Februar 2025\, 14 – 17 UhrBegrüssung: Elfi Thoma\, Kuratorin und SGBK PräsidentinWerkeinführung: Dr. Maria Becker\, Kunsthistorikerin \n\n\n\nEVENT\n\n\n\nAm Anfang war die Zeichnung\, jetzt kommt KISamstag\, 15. Februar\, 15 UhrKünstlerinnen-Gespräch mit Ewa Felippi \n\n\n\nBETEILIGTE KÜNSTLERINNEN\n\n\n\nEwa Felippi / Elke Höylä-Vogt / Sibylle Laubscher / Barbara Heidi Maurer / Heike Müller / Kornelia Reichart / Anna-Katharina Rintelen / Ellen E. Schneider / Margret Senn Zaugg / Agnes Steinle / Daniela Theiler / Ruth Zähndler
URL:https://zauberwortreich.com/event/zeichnungen/
LOCATION:SGBK KUNST RAUM Basel\, Spalenvorstadt 18\, Basel\, 4051\, Switzerland
ATTACH;FMTTYPE=image/png:https://zauberwortreich.com/wp-content/uploads/2025/01/zeichnungen-2025_142.png
ORGANIZER;CN="Schweizerische Gesellschaft Bildender K%C3%BCnstlerinnen SGKB":MAILTO:sekretariat@sgbk.ch
END:VEVENT
BEGIN:VEVENT
DTSTART;TZID=Europe/Zurich:20241130T110000
DTEND;TZID=Europe/Zurich:20241212T110000
DTSTAMP:20260424T143118
CREATED:20241116T190132Z
LAST-MODIFIED:20241122T193306Z
UID:4045-1732964400-1734001200@zauberwortreich.com
SUMMARY:Ausstellung KUNST KIOSK
DESCRIPTION:Gruppenausstellung mit kleinformatigen Arbeiten\n\n\n\n\n\n\n\n\n\n\n\nÖFFNUNGSZEITEN \n\n\n\nMontag Geschlossen \n\n\n\nDienstag – Donnerstag 12:00 – 17:00 \n\n\n\nFreitag 14:00 – 19:00 \n\n\n\nSamstag 11:00 – 17:00 \n\n\n\nSonntag Geschlossen
URL:https://zauberwortreich.com/event/ausstellung-kunst-kiosk-2024/
LOCATION:Galerie NUMAS IGRA\, Hochstrasse 68\, Basel\, 4053\, Switzerland
ATTACH;FMTTYPE=image/png:https://zauberwortreich.com/wp-content/uploads/2024/11/Logo-NUMAS-IGRA.png
ORGANIZER;CN="Galerie NUMAS IGRA":MAILTO:info@numasigra.com
END:VEVENT
BEGIN:VEVENT
DTSTART;TZID=Europe/Zurich:20240904T000000
DTEND;TZID=Europe/Zurich:20240914T235959
DTSTAMP:20260424T143118
CREATED:20240728T200232Z
LAST-MODIFIED:20240728T200234Z
UID:3948-1725408000-1726358399@zauberwortreich.com
SUMMARY:Ausstellung im SGBK Kunstraum Basel
DESCRIPTION:04. September 2024 – 14. September 2024SGBK KUNST RAUM\, Spalenvorstadt 18\, 4051 Basel \n\n\n\nÖffnungszeitenMittwoch – Freitag | 15 – 18.30 UhrSamstag | 11 – 17 Uhr \n\n\n\nERÖFFNUNGS-APÉROSamstag\, 7.9 | 14-17 Uhr \n\n\n\nLESUNG UND FÜHRUNGDonnerstag\, 12.9 | 17 UhrSamstag\, 14.9 | 14 Uhr
URL:https://zauberwortreich.com/event/ausstellung-sgbk-kunstraum-2024/
LOCATION:SGBK KUNST RAUM Basel\, Spalenvorstadt 18\, Basel\, 4051\, Switzerland
ATTACH;FMTTYPE=image/png:https://zauberwortreich.com/wp-content/uploads/2021/09/Megamorphose.png
END:VEVENT
BEGIN:VEVENT
DTSTART;TZID=Europe/Zurich:20240710T000000
DTEND;TZID=Europe/Zurich:20240727T235959
DTSTAMP:20260424T143118
CREATED:20240601T093657Z
LAST-MODIFIED:20240601T094129Z
UID:4011-1720569600-1722124799@zauberwortreich.com
SUMMARY:NEUER KUNSTRAUM IN BASEL - NEWCOMER SHOW 2
DESCRIPTION:10. Juli 2024 – 27. Juli 2024 SGBK KUNSTRAUM\, Spalenvorstadt 18\, 4051 Basel \n\n\n\nEröffnungsapéro:Samstag\, 13. Juli 2024 | 14 – 17 Uhr \n\n\n\nÖffnungszeitenMittwoch bis Freitag | 15 – 18.30 UhrSamstag | 11.00 – 17.00 Uhr \n\n\n\nIm zweiten Teil der Newcomer Show Ausstellung zeigen vom 10. 7. bis 27. 7. 2024 Barbara Heidi Maurer\, Kornelia Reichart\, Anna-Katharina Rintelen und Sarah Walbeck ihre Arbeiten. \n\n\n\nMaurer zeigt in ihren Werken Geschichten und Orte\, die sie mit Roggentempera\, Öl und Kreide auf Leinwand oder Holz malt\, während in Reicharts archaisch anmutenden Werken aus Acryl\, Wolle\, Leinen und eingewobenen Zauberwörtern Fantasiebilder entstanden sind – sie nennt sie Zauberwortbilder. Walbecks Specksteinskulpturen zeigen den Wachstumsprozess von Pflanzen\, zudem verarbeitet sie in ihren Mixed Media Arbeiten aus Fotografie und Malerei die Themen Veränderung\, Mensch und Kosmos. Rintelens Tuschepinselzeichnungen und Acrylbilder lassen mit einer strahlenden Leuchtkraft und Tiefe an Gewässer und Landschaften anmutende Bilder entstehen. \n\n\n\nVeranstalterin\n\n\n\n\n\n\n\n\n\nVeranstaltungsort\n\n\n\n\n\n\n\n\n\nKünstlerinnen / Women artists / Artistes femmes / Donne artiste:\n\n\n\n\nKornelia Reichartinfo@zauberwortreich.comzauberwortreich.comsgbk.ch/de/artist-kornelia_reichart \n\n\n\n\n \n\n\n\n\nBarbara Heidi Maurermail@barbara-heidi-maurer.chwww.barbara-heidi-maurer.chsgbk.ch/de/artist-barbara-heidi-maurer \n\n\n\n\n \n\n\n\n\nAnna-Katharina Rintelenmail@anna-katharina-rintelen.dewww.anna-katharina-rintelen.de/sgbk.ch/de/artist-anna-katharina_rintelen \n\n\n\n\n \n\n\n\n\nSarah Walbecksarahwalbeck@gmail.comwww.sarah-walbeck.com sgbk.ch/de/artist-sarah-walbeck
URL:https://zauberwortreich.com/event/sgbk-newcomer-show/
LOCATION:SGBK KUNSTRAUM\, Spalenvorstadt 18\, Basel\, 4051\, Switzerland
ATTACH;FMTTYPE=image/png:https://zauberwortreich.com/wp-content/uploads/2021/09/Megamorphose.png
ORGANIZER;CN="Schweizerische Gesellschaft Bildender K%C3%BCnstlerinnen SGKB":MAILTO:sekretariat@sgbk.ch
END:VEVENT
BEGIN:VEVENT
DTSTART;TZID=Europe/Zurich:20240405T000000
DTEND;TZID=Europe/Zurich:20240505T235959
DTSTAMP:20260424T143118
CREATED:20240218T142642Z
LAST-MODIFIED:20240218T150312Z
UID:3968-1712275200-1714953599@zauberwortreich.com
SUMMARY:«WELTGESCHICHTE» Gruppen-Ausstellung der SGBK
DESCRIPTION:EINLADUNG zur SGBK Gruppen-Ausstellung «WELTGESCHICHTE»13. April – 5. Mai 2024Kulturraum Waldenburg\, Hauptstrasse 72\, 4437 Waldenburg \n\n\n\nVernissage: Samstag\, 13. April 2024\, 14 – 17 UhrBegrüssung: 14.30 UhrDagmar Maurer\, Präsidentin Kulturraum WaldenburgElfi Thoma\, Präsidentin SGBK BaselWerkeinführung: Dr. Maria Becker\, Kunsthistorikerin \n\n\n\nFinissage: 5. Mai 2024\, 14 – 17 UhrGewinnziehung: 15.00 Uhr \n\n\n\nÖffnungszeiten: Samstag & Sonntag 14 – 17 Uhr \n\n\n\nÜber 60 SGBK-Künstlerinnen zeigen im ehemaligen Gerichtsgebäude\, heute Kulturraum Waldenburg\, ein Gruppenprojekt mit zwei Schwerpunkten. Die zwanzig Bücher «Schlossers Weltgeschichte» von 1902 wurden von den Künstlerinnen zu Buchobjekte umgestaltet und deuten damit an\, welchem Wandel die Weltgeschichte stets unterworfen ist. Ein brisantes Thema aktueller denn je. \n\n\n\nDer Archivraum des ehemaligen Gerichtsgebäudes war durch dem Gebäudeumbau kaum tangiert und konnte mit seinen Regalen als solcher erhalten bleiben. Durch die Kunstwerke der Künstlerinnen erhält dieser Raum nun eine neue Bedeutung. Die Kunstwerke verwandeln diesen Raum in ein zeitlich begrenztes Kunstarchiv. \n\n\n\nFür die Besucher gibt es hierzu einen Wettbewerb.Wettbewerbs-Frage: wie viele Werke 30 x 30 x 6 cm lagern in den Archivregalen? Zu gewinnen ist ein Werk nach eigener Wahl im Betrage von Fr. 500.- \n\n\n\nGewinnziehung an der Finissage am 5. Mai 2024 um 15.00 Uhr.Teilnahmescheine liegen auf. \n\n\n\nEINLADUNG.PDF \n\n\n\nVeranstalterInnen: \n\n\n\n\n\n\n\nOrt:
URL:https://zauberwortreich.com/event/sgbk-gruppen-ausstellung-weltgeschichte/
LOCATION:Kulturraum Waldenburg\, Hauptstrasse 72\, Waldenburg\, 4437\, Switzerland
ATTACH;FMTTYPE=image/jpeg:https://zauberwortreich.com/wp-content/uploads/2024/02/mensch-und-menschin.jpeg
ORGANIZER;CN="Kulturraum Waldenburg":MAILTO:info@kulturraum-waldenburg.ch
END:VEVENT
BEGIN:VEVENT
DTSTART;TZID=Europe/Zurich:20220524T180000
DTEND;TZID=Europe/Zurich:20220524T191500
DTSTAMP:20260424T143118
CREATED:20220517T183522Z
LAST-MODIFIED:20220517T183523Z
UID:1011-1653415200-1653419700@zauberwortreich.com
SUMMARY:Geschichten aus dem ALL
DESCRIPTION:Die Schreibgruppe «Wort im ALL» stellt sich vor. \n\n\n\nBild: Wort im ALL\n\n\n\n«Wort im ALL» sind Autorinnen und Autoren\, die im Literaturhaus ihre Texte besprechen und daran feilen. Sie präsentieren ihre Werke und sprechen über Text-Entwicklung und Veränderung. \n\n\n\nBernadette Fülscher mag nicht-fiktionale Literatur. 2018 ist ihr Reisegedicht «Stille Blicke» erschienen\, 2020 ihre Übersetzung von Nicolas Verdans Roman «Saga Le Corbusier». Sie lebt in Biel und leitet dort den Literaturverlag Éditions Parallèles. (www.editions-paralleles.ch) \n\n\n\nDorothe Zürcher ist genre-untreu. Seit 2013 hat sie Kurzgeschichten\, sechs Romane und ein Hörspiel veröffentlicht. Ihr letztes Werk «Im Schatten der Krone – Die Grafen von Lenzburg» erschien 2021. Sie wohnt in Zürich und schreibt oft im Wallis. (www.dorothe-zürcher.ch) \n\n\n\nMarc Djizmedjian mag Lyrik und schreibt Prosa. 2009 erschien sein Text «Heimfahrt»\, danach publizierte er «Der Mann\, der nicht ins Kino ging»\, «Anne und Laure» und zuletzt die Erzählungen «Schnee in Venedig». Er lebt bei Zürich. (www.marcdjizmedjian.ch) \n\n\n\nKornelia Reichart liebt Zauberhaftes in Wort und Bild. Sie malt und schreibt Texte zu ihren Bildern. Anfang Mai 2022 sind ihre Wortbilder in der Galerie Soussol in Lenzburg zu sehen. Sie lebt und arbeitet im Seetal im Aargau. (www.zauberwortreich.com) \n\n\n\nEintritt: Fr. 15.– (AHV/IV: 10.–) / Platzzahl beschränkt.
URL:https://zauberwortreich.com/event/geschichten-aus-dem-all-2022/
LOCATION:Aargauer Literaturhaus Lenzburg\, Bleicherain 7\, Lenzburg\, Aargau\, 5600\, Switzerland
CATEGORIES:Lesungen
ATTACH;FMTTYPE=image/jpeg:https://zauberwortreich.com/wp-content/uploads/2022/05/Wortgeflecht-neu-scaled-e1652811688889.jpg
END:VEVENT
BEGIN:VEVENT
DTSTART;TZID=Europe/Zurich:20220430T000000
DTEND;TZID=Europe/Zurich:20220507T235959
DTSTAMP:20260424T143118
CREATED:20220313T115916Z
LAST-MODIFIED:20220615T110930Z
UID:705-1651276800-1651967999@zauberwortreich.com
SUMMARY:Wort-Bilder-Welten
DESCRIPTION:EINE KREATIVE SCHREIBAUSSTELLUNG im Müllerhaus Lenzburg \n\n\n\n30. April bis 7. Mai 2022 \n\n\n\nSamstag\, Sonntag 11-20 UhrMontag – Freitag 12-20 UhrEintritt frei\, Kollekte \n\n\n\nVERNISSAGE – mit Musik und kleinem ApéroSamstag\, 30. April\, 18 Uhr \n\n\n\n«Kreativität ist Energie»\, so heisst das Motto von Kornelia Reichart. Erstmals zeigt sie ihre Wortbilder in einer Einzelausstellung. Bunte Farben und Alltagsmaterialien gehen eine spannungsreiche Verbindung auf der Leinwand ein. \n\n\n\nIn den farbprächtigen «Bedeutungsuniversen» werden ganz eigene\, fantasievolle Ideenwelten visuell und sinnlich zugänglich. Archetypische Bilder und märchenhafte Symbole sprechen neben dem Intellekt das Unbewusste an. \n\n\n\nDie Wortbilder sind in einer langjährigen Arbeitsphase entstanden\, welche auch durch das Schreiben von Texten geprägt war. Den Höhepunkt und Abschluss des jeweiligen Schaffensprozesses markiert ein Zauberwort\, das dem Bild eingeschrieben ist. \n\n\n\nNeben den Wortbildern gibt es 13 Musen zu entdecken. \n\n\n\nDie Ausstellung folgt keinem kommerziellen Zweck\, sondern hat sich zum Ziel gesetzt\, zu inspirieren und verschiedene künstlerische Formen und Menschen zu verbinden. \n\n\n\nVerleihen Sie der Fantasie und Kreativität weitere Flügel! Sie können in der Ausstellung eigene Einfälle zu den Wortbildern aufschreiben und der Künstlerin als Inspiration zur Verfügung stellen.  \n\n\n\n\n\n\n\nKORNELIA REICHART  hat Germanistik und Geschichte in Würzburg und Zürich studiert. Sie hat das Höhere Lehramt abgeschlossen und ein Diplom in Psychologischer Gesprächsführung erworben. Seitdem ist sie in verschiedenen Bereichen künstlerisch tätig. \n\n\n\n\n\nKONTAKT \n\n\n\n\n\nVERANSTALTUNGSORT
URL:https://zauberwortreich.com/event/wort-bilder-welten/
LOCATION:Galerie Soussol im Müllerhaus Lenzburg\, Bleicherain 7\, Lenzburg\, 5600\, Switzerland
CATEGORIES:Ausstellungen
ATTACH;FMTTYPE=image/png:https://zauberwortreich.com/wp-content/uploads/2021/09/Megamorphose.png
ORGANIZER;CN="Kornelia Reichart":MAILTO:info@zauberwortreich.com
END:VEVENT
END:VCALENDAR